BEGIN:VCALENDAR
VERSION:2.0
PRODID:-//STARS H2020 - ECPv5.6.0//NONSGML v1.0//EN
CALSCALE:GREGORIAN
METHOD:PUBLISH
X-WR-CALNAME:STARS H2020
X-ORIGINAL-URL:https://stars-h2020.eu
X-WR-CALDESC:Events for STARS H2020
BEGIN:VTIMEZONE
TZID:Europe/Paris
BEGIN:DAYLIGHT
TZOFFSETFROM:+0100
TZOFFSETTO:+0200
TZNAME:CEST
DTSTART:20200329T010000
END:DAYLIGHT
BEGIN:STANDARD
TZOFFSETFROM:+0200
TZOFFSETTO:+0100
TZNAME:CET
DTSTART:20201025T010000
END:STANDARD
END:VTIMEZONE
BEGIN:VEVENT
DTSTART;VALUE=DATE:20200213
DTEND;VALUE=DATE:20200215
DTSTAMP:20260421T104319
CREATED:20191126T155630Z
LAST-MODIFIED:20191211T142640Z
UID:25384-1581552000-1581724799@stars-h2020.eu
SUMMARY:Learning from the STARS: Findings & the Future of Car Sharing in Europe
DESCRIPTION:
URL:https://stars-h2020.eu/event/learning-from-the-stars-stars-findings-the-future-of-car-sharing-in-europe/
CATEGORIES:STARS events
ATTACH;FMTTYPE=image/png:https://stars-h2020.eu/wp-content/uploads/2019/11/STARS-Twitter-posts-2-6.png
END:VEVENT
END:VCALENDAR